BEGIN:VCALENDAR
VERSION:2.0
PRODID:-//Promo Tur Querétaro - DMC Turismo en Querétaro, Sierra Gorda - ECPv6.15.17.1//NONSGML v1.0//EN
CALSCALE:GREGORIAN
METHOD:PUBLISH
X-ORIGINAL-URL:https://promoturqueretaro.com.mx
X-WR-CALDESC:Eventos para Promo Tur Querétaro - DMC Turismo en Querétaro, Sierra Gorda
REFRESH-INTERVAL;VALUE=DURATION:PT1H
X-Robots-Tag:noindex
X-PUBLISHED-TTL:PT1H
BEGIN:VTIMEZONE
TZID:America/Mexico_City
BEGIN:STANDARD
TZOFFSETFROM:-0600
TZOFFSETTO:-0600
TZNAME:CST
DTSTART:20250101T000000
END:STANDARD
END:VTIMEZONE
BEGIN:VEVENT
DTSTART;TZID=America/Mexico_City:20260310T050000
DTEND;TZID=America/Mexico_City:20260315T170000
DTSTAMP:20260423T144312
CREATED:20260217T034743Z
LAST-MODIFIED:20260307T001702Z
UID:29429-1773118800-1773594000@promoturqueretaro.com.mx
SUMMARY:Viaje cultural Veracruz
DESCRIPTION:
URL:https://promoturqueretaro.com.mx/agenda/viaje-cultural-veracruz/
CATEGORIES:Eventos Turisticos Querétaro
ATTACH;FMTTYPE=image/jpeg:https://promoturqueretaro.com.mx/wp-content/uploads/2026/03/Veracruz-marzo.jpeg
END:VEVENT
END:VCALENDAR